OziExplorer Map Data File Version 2.2
l53-093
Y:\ozi_map\work_map\1\l53-093.jpg
1 ,Map Code,
Pulkovo 1942 (1),, 0.0000, 0.0000,WGS 84
Reserved 1
Reserved 2
Magnetic Variation,,,E
Map Projection,Transverse Mercator,PolyCal,Yes,AutoCalOnly,No,BSBUseWPX,No
Point01,xy, 58, 56,in, deg, 45, 40.0000,N, 136, 0.0000,E, grid, , , ,N
Point02,xy, 1205, 62,in, deg, 45, 40.0000,N, 136, 15.0000,E, grid, , , ,N
Point03,xy, 2353, 59,in, deg, 45, 40.0000,N, 136, 30.0000,E, grid, , , ,N
Point04,xy, 48, 1150,in, deg, 45, 30.0000,N, 136, 0.0000,E, grid, , , ,N
Point05,xy, 1203, 1155,in, deg, 45, 30.0000,N, 136, 15.0000,E, grid, , , ,N
Point06,xy, 2357, 1153,in, deg, 45, 30.0000,N, 136, 30.0000,E, grid, , , ,N
Point07,xy, 43, 2243,in, deg, 45, 20.0000,N, 136, 0.0000,E, grid, , , ,N
Point08,xy, 1195, 2247,in, deg, 45, 20.0000,N, 136, 15.0000,E, grid, , , ,N
Point09,xy, 2348, 2248,in, deg, 45, 20.0000,N, 136, 30.0000,E, grid, , , ,N
Point10,xy, , ,in, deg, , ,, , ,, grid, , , ,N
Point11,xy, , ,in, deg, , ,, , ,, grid, , , ,N
Point12,xy, , ,in, deg, , ,, , ,, grid, , , ,N
Point13,xy, , ,in, deg, , ,, , ,, grid, , , ,N
Point14,xy, , ,in, deg, , ,, , ,, grid, , , ,N
Point15,xy, , ,in, deg, , ,, , ,, grid, , , ,N
Point16,xy, , ,in, deg, , ,, , ,, grid, , , ,N
Point17,xy, , ,in, deg, , ,, , ,, grid, , , ,N
Point18,xy, , ,in, deg, , ,, , ,, grid, , , ,N
Point19,xy, , ,in, deg, , ,, , ,, grid, , , ,N
Point20,xy, , ,in, deg, , ,, , ,, grid, , , ,N
Point21,xy, , ,in, deg, , ,, , ,, grid, , , ,N
Point22,xy, , ,in, deg, , ,, , ,, grid, , , ,N
Point23,xy, , ,in, deg, , ,, , ,, grid, , , ,N
Point24,xy, , ,in, deg, , ,, , ,, grid, , , ,N
Point25,xy, , ,in, deg, , ,, , ,, grid, , , ,N
Point26,xy, , ,in, deg, , ,, , ,, grid, , , ,N
Point27,xy, , ,in, deg, , ,, , ,, grid, , , ,N
Point28,xy, , ,in, deg, , ,, , ,, grid, , , ,N
Point29,xy, , ,in, deg, , ,, , ,, grid, , , ,N
Point30,xy, , ,in, deg, , ,, , ,, grid, , , ,N
Projection Setup, 0.000000000, 135.000000000, 1.000000000, 23500000.00, 0.00,,,,,
Map Feature = MF ; Map Comment = MC These follow if they exist
Track File = TF These follow if they exist
Moving Map Parameters = MM? These follow if they exist
MM0,Yes
MMPNUM,4
MMPXY,1,55,54
MMPXY,2,2355,56
MMPXY,3,2351,2251
MMPXY,4,42,2245
MMPLL,1, 135.999697, 45.667064
MMPLL,2, 136.500135, 45.667166
MMPLL,3, 136.500355, 45.332765
MMPLL,4, 136.000136, 45.332969
MM1B,16.961283
Other Grid Setup
GRGRID,Yes,2 Km,No,16711680,255,2 Km,0,16777215,8,0,Yes,Yes,No,x
MOP,Map Open Position,0,0
IWH,Map Image Width/Height,2417,2306
