OziExplorer Map Data File Version 2.2
l53-099
Y:\ozi_map\work_map\1\l53-099.jpg
1 ,Map Code,
Pulkovo 1942 (1),, 0.0000, 0.0000,WGS 84
Reserved 1
Reserved 2
Magnetic Variation,,,E
Map Projection,Transverse Mercator,PolyCal,Yes,AutoCalOnly,No,BSBUseWPX,No
Point01,xy, 55, 68,in, deg, 45, 20.0000,N, 133, 0.0000,E, grid, , , ,N
Point02,xy, 1210, 70,in, deg, 45, 20.0000,N, 133, 15.0000,E, grid, , , ,N
Point03,xy, 2362, 63,in, deg, 45, 20.0000,N, 133, 30.0000,E, grid, , , ,N
Point04,xy, 49, 1165,in, deg, 45, 10.0000,N, 133, 0.0000,E, grid, , , ,N
Point05,xy, 1213, 1167,in, deg, 45, 10.0000,N, 133, 15.0000,E, grid, , , ,N
Point06,xy, 2374, 1158,in, deg, 45, 10.0000,N, 133, 30.0000,E, grid, , , ,N
Point07,xy, 48, 2260,in, deg, 45, 0.0000,N, 133, 0.0000,E, grid, , , ,N
Point08,xy, 1208, 2263,in, deg, 45, 0.0000,N, 133, 15.0000,E, grid, , , ,N
Point09,xy, 2370, 2254,in, deg, 45, 0.0000,N, 133, 30.0000,E, grid, , , ,N
Point10,xy, , ,in, deg, , ,, , ,, grid, , , ,N
Point11,xy, , ,in, deg, , ,, , ,, grid, , , ,N
Point12,xy, , ,in, deg, , ,, , ,, grid, , , ,N
Point13,xy, , ,in, deg, , ,, , ,, grid, , , ,N
Point14,xy, , ,in, deg, , ,, , ,, grid, , , ,N
Point15,xy, , ,in, deg, , ,, , ,, grid, , , ,N
Point16,xy, , ,in, deg, , ,, , ,, grid, , , ,N
Point17,xy, , ,in, deg, , ,, , ,, grid, , , ,N
Point18,xy, , ,in, deg, , ,, , ,, grid, , , ,N
Point19,xy, , ,in, deg, , ,, , ,, grid, , , ,N
Point20,xy, , ,in, deg, , ,, , ,, grid, , , ,N
Point21,xy, , ,in, deg, , ,, , ,, grid, , , ,N
Point22,xy, , ,in, deg, , ,, , ,, grid, , , ,N
Point23,xy, , ,in, deg, , ,, , ,, grid, , , ,N
Point24,xy, , ,in, deg, , ,, , ,, grid, , , ,N
Point25,xy, , ,in, deg, , ,, , ,, grid, , , ,N
Point26,xy, , ,in, deg, , ,, , ,, grid, , , ,N
Point27,xy, , ,in, deg, , ,, , ,, grid, , , ,N
Point28,xy, , ,in, deg, , ,, , ,, grid, , , ,N
Point29,xy, , ,in, deg, , ,, , ,, grid, , , ,N
Point30,xy, , ,in, deg, , ,, , ,, grid, , , ,N
Projection Setup, 0.000000000, 135.000000000, 1.000000000, 23500000.00, 0.00,,,,,
Map Feature = MF ; Map Comment = MC These follow if they exist
Track File = TF These follow if they exist
Moving Map Parameters = MM? These follow if they exist
MM0,Yes
MMPNUM,4
MMPXY,1,53,66
MMPXY,2,2364,60
MMPXY,3,2371,2257
MMPXY,4,45,2263
MMPLL,1, 132.999887, 45.333634
MMPLL,2, 133.499997, 45.333712
MMPLL,3, 133.499960, 44.999539
MMPLL,4, 132.999853, 44.999615
MM1B,16.952024
Other Grid Setup
GRGRID,Yes,2 Km,No,16711680,255,2 Km,0,16777215,8,0,Yes,Yes,No,x
MOP,Map Open Position,0,0
IWH,Map Image Width/Height,2428,2321
