OziExplorer Map Data File Version 2.2
l53-103
Y:\ozi_map\work_map\1\l53-103.jpg
1 ,Map Code,
Pulkovo 1942 (1),, 0.0000, 0.0000,WGS 84
Reserved 1
Reserved 2
Magnetic Variation,,,E
Map Projection,Transverse Mercator,PolyCal,Yes,AutoCalOnly,No,BSBUseWPX,No
Point01,xy, 58, 59,in, deg, 45, 20.0000,N, 135, 0.0000,E, grid, , , ,N
Point02,xy, 1212, 65,in, deg, 45, 20.0000,N, 135, 15.0000,E, grid, , , ,N
Point03,xy, 2369, 62,in, deg, 45, 20.0000,N, 135, 30.0000,E, grid, , , ,N
Point04,xy, 44, 1155,in, deg, 45, 10.0000,N, 135, 0.0000,E, grid, , , ,N
Point05,xy, 1211, 1161,in, deg, 45, 10.0000,N, 135, 15.0000,E, grid, , , ,N
Point06,xy, 2375, 1158,in, deg, 45, 10.0000,N, 135, 30.0000,E, grid, , , ,N
Point07,xy, 40, 2252,in, deg, 45, 0.0000,N, 135, 0.0000,E, grid, , , ,N
Point08,xy, 1203, 2257,in, deg, 45, 0.0000,N, 135, 15.0000,E, grid, , , ,N
Point09,xy, 2367, 2253,in, deg, 45, 0.0000,N, 135, 30.0000,E, grid, , , ,N
Point10,xy, , ,in, deg, , ,, , ,, grid, , , ,N
Point11,xy, , ,in, deg, , ,, , ,, grid, , , ,N
Point12,xy, , ,in, deg, , ,, , ,, grid, , , ,N
Point13,xy, , ,in, deg, , ,, , ,, grid, , , ,N
Point14,xy, , ,in, deg, , ,, , ,, grid, , , ,N
Point15,xy, , ,in, deg, , ,, , ,, grid, , , ,N
Point16,xy, , ,in, deg, , ,, , ,, grid, , , ,N
Point17,xy, , ,in, deg, , ,, , ,, grid, , , ,N
Point18,xy, , ,in, deg, , ,, , ,, grid, , , ,N
Point19,xy, , ,in, deg, , ,, , ,, grid, , , ,N
Point20,xy, , ,in, deg, , ,, , ,, grid, , , ,N
Point21,xy, , ,in, deg, , ,, , ,, grid, , , ,N
Point22,xy, , ,in, deg, , ,, , ,, grid, , , ,N
Point23,xy, , ,in, deg, , ,, , ,, grid, , , ,N
Point24,xy, , ,in, deg, , ,, , ,, grid, , , ,N
Point25,xy, , ,in, deg, , ,, , ,, grid, , , ,N
Point26,xy, , ,in, deg, , ,, , ,, grid, , , ,N
Point27,xy, , ,in, deg, , ,, , ,, grid, , , ,N
Point28,xy, , ,in, deg, , ,, , ,, grid, , , ,N
Point29,xy, , ,in, deg, , ,, , ,, grid, , , ,N
Point30,xy, , ,in, deg, , ,, , ,, grid, , , ,N
Projection Setup, 0.000000000, 135.000000000, 1.000000000, 23500000.00, 0.00,,,,,
Map Feature = MF ; Map Comment = MC These follow if they exist
Track File = TF These follow if they exist
Moving Map Parameters = MM? These follow if they exist
MM0,Yes
MMPNUM,4
MMPXY,1,56,57
MMPXY,2,2371,60
MMPXY,3,2370,2254
MMPXY,4,38,2254
MMPLL,1, 135.000095, 45.333614
MMPLL,2, 135.500096, 45.333664
MMPLL,3, 135.500240, 44.999871
MMPLL,4, 135.000027, 44.999671
MM1B,16.914658
Other Grid Setup
GRGRID,Yes,2 Km,No,16711680,255,2 Km,0,16777215,8,0,Yes,Yes,No,x
MOP,Map Open Position,0,0
IWH,Map Image Width/Height,2427,2314
