OziExplorer Map Data File Version 2.2
l53-113
Y:\ozi_map\work_map\1\l53-113.jpg
1 ,Map Code,
Pulkovo 1942 (1),, 0.0000, 0.0000,WGS 84
Reserved 1
Reserved 2
Magnetic Variation,,,E
Map Projection,Transverse Mercator,PolyCal,Yes,AutoCalOnly,No,BSBUseWPX,No
Point01,xy, 59, 59,in, deg, 45, 0.0000,N, 134, 0.0000,E, grid, , , ,N
Point02,xy, 1222, 64,in, deg, 45, 0.0000,N, 134, 15.0000,E, grid, , , ,N
Point03,xy, 2386, 60,in, deg, 45, 0.0000,N, 134, 30.0000,E, grid, , , ,N
Point04,xy, 49, 1155,in, deg, 44, 50.0000,N, 134, 0.0000,E, grid, , , ,N
Point05,xy, 1221, 1160,in, deg, 44, 50.0000,N, 134, 15.0000,E, grid, , , ,N
Point06,xy, 2393, 1157,in, deg, 44, 50.0000,N, 134, 30.0000,E, grid, , , ,N
Point07,xy, 43, 2250,in, deg, 44, 40.0000,N, 134, 0.0000,E, grid, , , ,N
Point08,xy, 1213, 2254,in, deg, 44, 40.0000,N, 134, 15.0000,E, grid, , , ,N
Point09,xy, 2382, 2252,in, deg, 44, 40.0000,N, 134, 30.0000,E, grid, , , ,N
Point10,xy, , ,in, deg, , ,, , ,, grid, , , ,N
Point11,xy, , ,in, deg, , ,, , ,, grid, , , ,N
Point12,xy, , ,in, deg, , ,, , ,, grid, , , ,N
Point13,xy, , ,in, deg, , ,, , ,, grid, , , ,N
Point14,xy, , ,in, deg, , ,, , ,, grid, , , ,N
Point15,xy, , ,in, deg, , ,, , ,, grid, , , ,N
Point16,xy, , ,in, deg, , ,, , ,, grid, , , ,N
Point17,xy, , ,in, deg, , ,, , ,, grid, , , ,N
Point18,xy, , ,in, deg, , ,, , ,, grid, , , ,N
Point19,xy, , ,in, deg, , ,, , ,, grid, , , ,N
Point20,xy, , ,in, deg, , ,, , ,, grid, , , ,N
Point21,xy, , ,in, deg, , ,, , ,, grid, , , ,N
Point22,xy, , ,in, deg, , ,, , ,, grid, , , ,N
Point23,xy, , ,in, deg, , ,, , ,, grid, , , ,N
Point24,xy, , ,in, deg, , ,, , ,, grid, , , ,N
Point25,xy, , ,in, deg, , ,, , ,, grid, , , ,N
Point26,xy, , ,in, deg, , ,, , ,, grid, , , ,N
Point27,xy, , ,in, deg, , ,, , ,, grid, , , ,N
Point28,xy, , ,in, deg, , ,, , ,, grid, , , ,N
Point29,xy, , ,in, deg, , ,, , ,, grid, , , ,N
Point30,xy, , ,in, deg, , ,, , ,, grid, , , ,N
Projection Setup, 0.000000000, 135.000000000, 1.000000000, 23500000.00, 0.00,,,,,
Map Feature = MF ; Map Comment = MC These follow if they exist
Track File = TF These follow if they exist
Moving Map Parameters = MM? These follow if they exist
MM0,Yes
MMPNUM,4
MMPXY,1,58,57
MMPXY,2,2389,59
MMPXY,3,2386,2253
MMPXY,4,41,2253
MMPLL,1, 134.000216, 45.000326
MMPLL,2, 134.500288, 45.000197
MMPLL,3, 134.500430, 44.666482
MMPLL,4, 133.999936, 44.666153
MM1B,16.913962
Other Grid Setup
GRGRID,Yes,2 Km,No,16711680,255,2 Km,0,16777215,8,0,Yes,Yes,No,x
MOP,Map Open Position,0,0
IWH,Map Image Width/Height,2454,2313
