OziExplorer Map Data File Version 2.2
l53-115
Y:\ozi_map\work_map\1\l53-115.jpg
1 ,Map Code,
Pulkovo 1942 (1),, 0.0000, 0.0000,WGS 84
Reserved 1
Reserved 2
Magnetic Variation,,,E
Map Projection,Transverse Mercator,PolyCal,Yes,AutoCalOnly,No,BSBUseWPX,No
Point01,xy, 54, 56,in, deg, 45, 0.0000,N, 135, 0.0000,E, grid, , , ,N
Point02,xy, 1217, 59,in, deg, 45, 0.0000,N, 135, 15.0000,E, grid, , , ,N
Point03,xy, 2377, 58,in, deg, 45, 0.0000,N, 135, 30.0000,E, grid, , , ,N
Point04,xy, 46, 1149,in, deg, 44, 50.0000,N, 135, 0.0000,E, grid, , , ,N
Point05,xy, 1216, 1153,in, deg, 44, 50.0000,N, 135, 15.0000,E, grid, , , ,N
Point06,xy, 2381, 1149,in, deg, 44, 50.0000,N, 135, 30.0000,E, grid, , , ,N
Point07,xy, 42, 2244,in, deg, 44, 40.0000,N, 135, 0.0000,E, grid, , , ,N
Point08,xy, 1211, 2246,in, deg, 44, 40.0000,N, 135, 15.0000,E, grid, , , ,N
Point09,xy, 2373, 2245,in, deg, 44, 40.0000,N, 135, 30.0000,E, grid, , , ,N
Point10,xy, , ,in, deg, , ,, , ,, grid, , , ,N
Point11,xy, , ,in, deg, , ,, , ,, grid, , , ,N
Point12,xy, , ,in, deg, , ,, , ,, grid, , , ,N
Point13,xy, , ,in, deg, , ,, , ,, grid, , , ,N
Point14,xy, , ,in, deg, , ,, , ,, grid, , , ,N
Point15,xy, , ,in, deg, , ,, , ,, grid, , , ,N
Point16,xy, , ,in, deg, , ,, , ,, grid, , , ,N
Point17,xy, , ,in, deg, , ,, , ,, grid, , , ,N
Point18,xy, , ,in, deg, , ,, , ,, grid, , , ,N
Point19,xy, , ,in, deg, , ,, , ,, grid, , , ,N
Point20,xy, , ,in, deg, , ,, , ,, grid, , , ,N
Point21,xy, , ,in, deg, , ,, , ,, grid, , , ,N
Point22,xy, , ,in, deg, , ,, , ,, grid, , , ,N
Point23,xy, , ,in, deg, , ,, , ,, grid, , , ,N
Point24,xy, , ,in, deg, , ,, , ,, grid, , , ,N
Point25,xy, , ,in, deg, , ,, , ,, grid, , , ,N
Point26,xy, , ,in, deg, , ,, , ,, grid, , , ,N
Point27,xy, , ,in, deg, , ,, , ,, grid, , , ,N
Point28,xy, , ,in, deg, , ,, , ,, grid, , , ,N
Point29,xy, , ,in, deg, , ,, , ,, grid, , , ,N
Point30,xy, , ,in, deg, , ,, , ,, grid, , , ,N
Projection Setup, 0.000000000, 135.000000000, 1.000000000, 23500000.00, 0.00,,,,,
Map Feature = MF ; Map Comment = MC These follow if they exist
Track File = TF These follow if they exist
Moving Map Parameters = MM? These follow if they exist
MM0,Yes
MMPNUM,4
MMPXY,1,51,54
MMPXY,2,2379,56
MMPXY,3,2376,2249
MMPXY,4,39,2246
MMPLL,1, 134.999714, 45.000317
MMPLL,2, 135.500217, 45.000241
MMPLL,3, 135.500295, 44.665968
MMPLL,4, 134.999577, 44.666348
MM1B,16.971223
Other Grid Setup
GRGRID,Yes,2 Km,No,16711680,255,2 Km,0,16777215,8,0,Yes,Yes,No,x
MOP,Map Open Position,0,0
IWH,Map Image Width/Height,2439,2303
