OziExplorer Map Data File Version 2.2
l53-129
Y:\ozi_map\work_map\1\l53-129.jpg
1 ,Map Code,
Pulkovo 1942 (1),, 0.0000, 0.0000,WGS 84
Reserved 1
Reserved 2
Magnetic Variation,,,E
Map Projection,Transverse Mercator,PolyCal,Yes,AutoCalOnly,No,BSBUseWPX,No
Point01,xy, 55, 54,in, deg, 44, 40.0000,N, 136, 0.0000,E, grid, , , ,N
Point02,xy, 1226, 61,in, deg, 44, 40.0000,N, 136, 15.0000,E, grid, , , ,N
Point03,xy, 1249, 122,ex, deg, 44, 40.0000,N, 136, 30.0000,E, grid, , , ,N
Point04,xy, 46, 1152,in, deg, 44, 30.0000,N, 136, 0.0000,E, grid, , , ,N
Point05,xy, 1225, 1158,in, deg, 44, 30.0000,N, 136, 15.0000,E, grid, , , ,N
Point06,xy, 1230, 877,ex, deg, 44, 30.0000,N, 136, 30.0000,E, grid, , , ,N
Point07,xy, 44, 1693,ex, deg, 44, 20.0000,N, 136, 0.0000,E, grid, , , ,N
Point08,xy, 637, 1693,ex, deg, 44, 20.0000,N, 136, 15.0000,E, grid, , , ,N
Point09,xy, 1230, 1693,ex, deg, 44, 20.0000,N, 136, 30.0000,E, grid, , , ,N
Point10,xy, , ,in, deg, , ,, , ,, grid, , , ,N
Point11,xy, , ,in, deg, , ,, , ,, grid, , , ,N
Point12,xy, , ,in, deg, , ,, , ,, grid, , , ,N
Point13,xy, , ,in, deg, , ,, , ,, grid, , , ,N
Point14,xy, , ,in, deg, , ,, , ,, grid, , , ,N
Point15,xy, , ,in, deg, , ,, , ,, grid, , , ,N
Point16,xy, , ,in, deg, , ,, , ,, grid, , , ,N
Point17,xy, , ,in, deg, , ,, , ,, grid, , , ,N
Point18,xy, , ,in, deg, , ,, , ,, grid, , , ,N
Point19,xy, , ,in, deg, , ,, , ,, grid, , , ,N
Point20,xy, , ,in, deg, , ,, , ,, grid, , , ,N
Point21,xy, , ,in, deg, , ,, , ,, grid, , , ,N
Point22,xy, , ,in, deg, , ,, , ,, grid, , , ,N
Point23,xy, , ,in, deg, , ,, , ,, grid, , , ,N
Point24,xy, , ,in, deg, , ,, , ,, grid, , , ,N
Point25,xy, , ,in, deg, , ,, , ,, grid, , , ,N
Point26,xy, , ,in, deg, , ,, , ,, grid, , , ,N
Point27,xy, , ,in, deg, , ,, , ,, grid, , , ,N
Point28,xy, , ,in, deg, , ,, , ,, grid, , , ,N
Point29,xy, , ,in, deg, , ,, , ,, grid, , , ,N
Point30,xy, , ,in, deg, , ,, , ,, grid, , , ,N
Projection Setup, 0.000000000, 135.000000000, 1.000000000, 23500000.00, 0.00,,,,,
Map Feature = MF ; Map Comment = MC These follow if they exist
Track File = TF These follow if they exist
Moving Map Parameters = MM? These follow if they exist
MM0,Yes
MMPNUM,4
MMPXY,1,50,50
MMPXY,2,1273,61
MMPXY,3,1230,1693
MMPXY,4,44,1693
MMPLL,1, 135.999177, 44.667311
MMPLL,2, 136.259766, 44.666653
MMPLL,3, 136.251654, 44.418801
MMPLL,4, 136.000032, 44.417799
MM1B,16.888862
Other Grid Setup
GRGRID,Yes,2 Km,No,16711680,255,2 Km,0,16777215,8,0,Yes,Yes,No,x
MOP,Map Open Position,0,0
IWH,Map Image Width/Height,1275,1755
