OziExplorer Map Data File Version 2.2
l53-133
Y:\ozi_map\work_map\1\l53-133.jpg
1 ,Map Code,
Pulkovo 1942 (1),, 0.0000, 0.0000,WGS 84
Reserved 1
Reserved 2
Magnetic Variation,,,E
Map Projection,Transverse Mercator,PolyCal,Yes,AutoCalOnly,No,BSBUseWPX,No
Point01,xy, 54, 67,in, deg, 44, 20.0000,N, 132, 0.0000,E, grid, , , ,N
Point02,xy, 1231, 66,in, deg, 44, 20.0000,N, 132, 15.0000,E, grid, , , ,N
Point03,xy, 2407, 57,in, deg, 44, 20.0000,N, 132, 30.0000,E, grid, , , ,N
Point04,xy, 49, 1164,in, deg, 44, 10.0000,N, 132, 0.0000,E, grid, , , ,N
Point05,xy, 1236, 1160,in, deg, 44, 10.0000,N, 132, 15.0000,E, grid, , , ,N
Point06,xy, 2417, 1158,in, deg, 44, 10.0000,N, 132, 30.0000,E, grid, , , ,N
Point07,xy, 51, 2263,in, deg, 44, 0.0000,N, 132, 0.0000,E, grid, , , ,N
Point08,xy, 1237, 2260,in, deg, 44, 0.0000,N, 132, 15.0000,E, grid, , , ,N
Point09,xy, 2419, 2256,in, deg, 44, 0.0000,N, 132, 30.0000,E, grid, , , ,N
Point10,xy, , ,in, deg, , ,, , ,, grid, , , ,N
Point11,xy, , ,in, deg, , ,, , ,, grid, , , ,N
Point12,xy, , ,in, deg, , ,, , ,, grid, , , ,N
Point13,xy, , ,in, deg, , ,, , ,, grid, , , ,N
Point14,xy, , ,in, deg, , ,, , ,, grid, , , ,N
Point15,xy, , ,in, deg, , ,, , ,, grid, , , ,N
Point16,xy, , ,in, deg, , ,, , ,, grid, , , ,N
Point17,xy, , ,in, deg, , ,, , ,, grid, , , ,N
Point18,xy, , ,in, deg, , ,, , ,, grid, , , ,N
Point19,xy, , ,in, deg, , ,, , ,, grid, , , ,N
Point20,xy, , ,in, deg, , ,, , ,, grid, , , ,N
Point21,xy, , ,in, deg, , ,, , ,, grid, , , ,N
Point22,xy, , ,in, deg, , ,, , ,, grid, , , ,N
Point23,xy, , ,in, deg, , ,, , ,, grid, , , ,N
Point24,xy, , ,in, deg, , ,, , ,, grid, , , ,N
Point25,xy, , ,in, deg, , ,, , ,, grid, , , ,N
Point26,xy, , ,in, deg, , ,, , ,, grid, , , ,N
Point27,xy, , ,in, deg, , ,, , ,, grid, , , ,N
Point28,xy, , ,in, deg, , ,, , ,, grid, , , ,N
Point29,xy, , ,in, deg, , ,, , ,, grid, , , ,N
Point30,xy, , ,in, deg, , ,, , ,, grid, , , ,N
Projection Setup, 0.000000000, 135.000000000, 1.000000000, 23500000.00, 0.00,,,,,
Map Feature = MF ; Map Comment = MC These follow if they exist
Track File = TF These follow if they exist
Moving Map Parameters = MM? These follow if they exist
MM0,Yes
MMPNUM,4
MMPXY,1,51,65
MMPXY,2,2410,56
MMPXY,3,2422,2257
MMPXY,4,48,2263
MMPLL,1, 131.999723, 44.333718
MMPLL,2, 132.500469, 44.333690
MMPLL,3, 132.500359, 43.999877
MMPLL,4, 131.999620, 43.999903
MM1B,16.920444
Other Grid Setup
GRGRID,Yes,2 Km,No,16711680,255,2 Km,0,16777215,8,0,Yes,Yes,No,x
MOP,Map Open Position,0,0
IWH,Map Image Width/Height,2486,2326
