OziExplorer Map Data File Version 2.2
l53-140
Y:\ozi_map\work_map\1\l53-140.jpg
1 ,Map Code,
Pulkovo 1942 (1),, 0.0000, 0.0000,WGS 84
Reserved 1
Reserved 2
Magnetic Variation,,,E
Map Projection,Transverse Mercator,PolyCal,Yes,AutoCalOnly,No,BSBUseWPX,No
Point01,xy, 56, 59,in, deg, 44, 20.0000,N, 135, 30.0000,E, grid, , , ,N
Point02,xy, 1232, 60,in, deg, 44, 20.0000,N, 135, 45.0000,E, grid, , , ,N
Point03,xy, 2408, 52,in, deg, 44, 20.0000,N, 136, 0.0000,E, grid, , , ,N
Point04,xy, 49, 1154,in, deg, 44, 10.0000,N, 135, 30.0000,E, grid, , , ,N
Point05,xy, 1235, 1157,in, deg, 44, 10.0000,N, 135, 45.0000,E, grid, , , ,N
Point06,xy, 2417, 1148,in, deg, 44, 10.0000,N, 136, 0.0000,E, grid, , , ,N
Point07,xy, 47, 2252,in, deg, 44, 0.0000,N, 135, 30.0000,E, grid, , , ,N
Point08,xy, 1233, 2255,in, deg, 44, 0.0000,N, 135, 45.0000,E, grid, , , ,N
Point09,xy, 2413, 2247,in, deg, 44, 0.0000,N, 136, 0.0000,E, grid, , , ,N
Point10,xy, , ,in, deg, , ,, , ,, grid, , , ,N
Point11,xy, , ,in, deg, , ,, , ,, grid, , , ,N
Point12,xy, , ,in, deg, , ,, , ,, grid, , , ,N
Point13,xy, , ,in, deg, , ,, , ,, grid, , , ,N
Point14,xy, , ,in, deg, , ,, , ,, grid, , , ,N
Point15,xy, , ,in, deg, , ,, , ,, grid, , , ,N
Point16,xy, , ,in, deg, , ,, , ,, grid, , , ,N
Point17,xy, , ,in, deg, , ,, , ,, grid, , , ,N
Point18,xy, , ,in, deg, , ,, , ,, grid, , , ,N
Point19,xy, , ,in, deg, , ,, , ,, grid, , , ,N
Point20,xy, , ,in, deg, , ,, , ,, grid, , , ,N
Point21,xy, , ,in, deg, , ,, , ,, grid, , , ,N
Point22,xy, , ,in, deg, , ,, , ,, grid, , , ,N
Point23,xy, , ,in, deg, , ,, , ,, grid, , , ,N
Point24,xy, , ,in, deg, , ,, , ,, grid, , , ,N
Point25,xy, , ,in, deg, , ,, , ,, grid, , , ,N
Point26,xy, , ,in, deg, , ,, , ,, grid, , , ,N
Point27,xy, , ,in, deg, , ,, , ,, grid, , , ,N
Point28,xy, , ,in, deg, , ,, , ,, grid, , , ,N
Point29,xy, , ,in, deg, , ,, , ,, grid, , , ,N
Point30,xy, , ,in, deg, , ,, , ,, grid, , , ,N
Projection Setup, 0.000000000, 135.000000000, 1.000000000, 23500000.00, 0.00,,,,,
Map Feature = MF ; Map Comment = MC These follow if they exist
Track File = TF These follow if they exist
Moving Map Parameters = MM? These follow if they exist
MM0,Yes
MMPNUM,4
MMPXY,1,54,57
MMPXY,2,2412,50
MMPXY,3,2416,2249
MMPXY,4,44,2254
MMPLL,1, 135.500013, 44.333596
MMPLL,2, 136.000653, 44.333590
MMPLL,3, 136.000226, 43.999701
MMPLL,4, 135.499594, 43.999701
MM1B,16.929077
Other Grid Setup
GRGRID,Yes,2 Km,No,16711680,255,2 Km,0,16777215,8,0,Yes,Yes,No,x
MOP,Map Open Position,0,0
IWH,Map Image Width/Height,2474,2310
