OziExplorer Map Data File Version 2.2
l53-22
Y:\ozi_map\work_map\2\l53-22.jpg
1 ,Map Code,
Pulkovo 1942 (1),, 0.0000, 0.0000,WGS 84
Reserved 1
Reserved 2
Magnetic Variation,,,E
Map Projection,Transverse Mercator,PolyCal,Yes,AutoCalOnly,No,BSBUseWPX,No
Point01,xy, 218, 149,in, deg, 46, 0.0000,N, 135, 0.0000,E, grid, , , ,N
Point02,xy, 2505, 180,in, deg, 46, 0.0000,N, 135, 30.0000,E, grid, , , ,N
Point03,xy, 4794, 199,in, deg, 46, 0.0000,N, 136, 0.0000,E, grid, , , ,N
Point04,xy, 181, 2339,in, deg, 45, 40.0000,N, 135, 0.0000,E, grid, , , ,N
Point05,xy, 2480, 2373,in, deg, 45, 40.0000,N, 135, 30.0000,E, grid, , , ,N
Point06,xy, 4782, 2389,in, deg, 45, 40.0000,N, 136, 0.0000,E, grid, , , ,N
Point07,xy, 141, 4527,in, deg, 45, 20.0000,N, 135, 0.0000,E, grid, , , ,N
Point08,xy, 2458, 4561,in, deg, 45, 20.0000,N, 135, 30.0000,E, grid, , , ,N
Point09,xy, 4769, 4579,in, deg, 45, 20.0000,N, 136, 0.0000,E, grid, , , ,N
Point10,xy, , ,in, deg, , ,, , ,, grid, , , ,N
Point11,xy, , ,in, deg, , ,, , ,, grid, , , ,N
Point12,xy, , ,in, deg, , ,, , ,, grid, , , ,N
Point13,xy, , ,in, deg, , ,, , ,, grid, , , ,N
Point14,xy, , ,in, deg, , ,, , ,, grid, , , ,N
Point15,xy, , ,in, deg, , ,, , ,, grid, , , ,N
Point16,xy, , ,in, deg, , ,, , ,, grid, , , ,N
Point17,xy, , ,in, deg, , ,, , ,, grid, , , ,N
Point18,xy, , ,in, deg, , ,, , ,, grid, , , ,N
Point19,xy, , ,in, deg, , ,, , ,, grid, , , ,N
Point20,xy, , ,in, deg, , ,, , ,, grid, , , ,N
Point21,xy, , ,in, deg, , ,, , ,, grid, , , ,N
Point22,xy, , ,in, deg, , ,, , ,, grid, , , ,N
Point23,xy, , ,in, deg, , ,, , ,, grid, , , ,N
Point24,xy, , ,in, deg, , ,, , ,, grid, , , ,N
Point25,xy, , ,in, deg, , ,, , ,, grid, , , ,N
Point26,xy, , ,in, deg, , ,, , ,, grid, , , ,N
Point27,xy, , ,in, deg, , ,, , ,, grid, , , ,N
Point28,xy, , ,in, deg, , ,, , ,, grid, , , ,N
Point29,xy, , ,in, deg, , ,, , ,, grid, , , ,N
Point30,xy, , ,in, deg, , ,, , ,, grid, , , ,N
Projection Setup, 0.000000000, 135.000000000, 1.000000000, 23500000.00, 0.00,,,,,
Map Feature = MF ; Map Comment = MC These follow if they exist
Track File = TF These follow if they exist
Moving Map Parameters = MM? These follow if they exist
MM0,Yes
MMPNUM,4
MMPXY,1,216,146
MMPXY,2,4797,195
MMPXY,3,4772,4581
MMPXY,4,138,4530
MMPLL,1, 134.999599, 46.000392
MMPLL,2, 136.000777, 46.000500
MMPLL,3, 136.000486, 45.333022
MMPLL,4, 134.999120, 45.332907
MM1B,16.924704
Other Grid Setup
GRGRID,Yes,4 Km,No,16711680,255,4 Km,0,16777215,8,0,Yes,Yes,No,x
MOP,Map Open Position,0,0
IWH,Map Image Width/Height,4929,4723
