OziExplorer Map Data File Version 2.2
l53-23
Y:\ozi_map\work_map\2\l53-23.jpg
1 ,Map Code,
Pulkovo 1942 (1),, 0.0000, 0.0000,WGS 84
Reserved 1
Reserved 2
Magnetic Variation,,,E
Map Projection,Transverse Mercator,PolyCal,Yes,AutoCalOnly,No,BSBUseWPX,No
Point01,xy, 215, 142,in, deg, 46, 0.0000,N, 136, 0.0000,E, grid, , , ,N
Point02,xy, 2505, 168,in, deg, 46, 0.0000,N, 136, 30.0000,E, grid, , , ,N
Point03,xy, 4791, 182,in, deg, 46, 0.0000,N, 137, 0.0000,E, grid, , , ,N
Point04,xy, 181, 2327,in, deg, 45, 40.0000,N, 136, 0.0000,E, grid, , , ,N
Point05,xy, 2482, 2356,in, deg, 45, 40.0000,N, 136, 30.0000,E, grid, , , ,N
Point06,xy, 4780, 2370,in, deg, 45, 40.0000,N, 137, 0.0000,E, grid, , , ,N
Point07,xy, 145, 4509,in, deg, 45, 20.0000,N, 136, 0.0000,E, grid, , , ,N
Point08,xy, 2459, 4537,in, deg, 45, 20.0000,N, 136, 30.0000,E, grid, , , ,N
Point09,xy, 4771, 4553,in, deg, 45, 20.0000,N, 137, 0.0000,E, grid, , , ,N
Point10,xy, , ,in, deg, , ,, , ,, grid, , , ,N
Point11,xy, , ,in, deg, , ,, , ,, grid, , , ,N
Point12,xy, , ,in, deg, , ,, , ,, grid, , , ,N
Point13,xy, , ,in, deg, , ,, , ,, grid, , , ,N
Point14,xy, , ,in, deg, , ,, , ,, grid, , , ,N
Point15,xy, , ,in, deg, , ,, , ,, grid, , , ,N
Point16,xy, , ,in, deg, , ,, , ,, grid, , , ,N
Point17,xy, , ,in, deg, , ,, , ,, grid, , , ,N
Point18,xy, , ,in, deg, , ,, , ,, grid, , , ,N
Point19,xy, , ,in, deg, , ,, , ,, grid, , , ,N
Point20,xy, , ,in, deg, , ,, , ,, grid, , , ,N
Point21,xy, , ,in, deg, , ,, , ,, grid, , , ,N
Point22,xy, , ,in, deg, , ,, , ,, grid, , , ,N
Point23,xy, , ,in, deg, , ,, , ,, grid, , , ,N
Point24,xy, , ,in, deg, , ,, , ,, grid, , , ,N
Point25,xy, , ,in, deg, , ,, , ,, grid, , , ,N
Point26,xy, , ,in, deg, , ,, , ,, grid, , , ,N
Point27,xy, , ,in, deg, , ,, , ,, grid, , , ,N
Point28,xy, , ,in, deg, , ,, , ,, grid, , , ,N
Point29,xy, , ,in, deg, , ,, , ,, grid, , , ,N
Point30,xy, , ,in, deg, , ,, , ,, grid, , , ,N
Projection Setup, 0.000000000, 135.000000000, 1.000000000, 23500000.00, 0.00,,,,,
Map Feature = MF ; Map Comment = MC These follow if they exist
Track File = TF These follow if they exist
Moving Map Parameters = MM? These follow if they exist
MM0,Yes
MMPNUM,4
MMPXY,1,212,140
MMPXY,2,4794,180
MMPXY,3,4773,4555
MMPXY,4,143,4512
MMPLL,1, 135.999225, 46.000244
MMPLL,2, 137.000693, 46.000305
MMPLL,3, 137.000547, 45.333030
MMPLL,4, 135.999542, 45.332819
MM1B,16.929010
Other Grid Setup
GRGRID,Yes,4 Km,No,16711680,255,4 Km,0,16777215,8,0,Yes,Yes,No,x
MOP,Map Open Position,0,0
IWH,Map Image Width/Height,4936,4710
